BEGIN:VCALENDAR
VERSION:2.0
PRODID:-//Onondaga Historical Association - ECPv6.6.4.2//NONSGML v1.0//EN
CALSCALE:GREGORIAN
METHOD:PUBLISH
X-ORIGINAL-URL:https://www.cnyhistory.org
X-WR-CALDESC:Events for Onondaga Historical Association
REFRESH-INTERVAL;VALUE=DURATION:PT1H
X-Robots-Tag:noindex
X-PUBLISHED-TTL:PT1H
BEGIN:VTIMEZONE
TZID:America/New_York
BEGIN:DAYLIGHT
TZOFFSETFROM:-0500
TZOFFSETTO:-0400
TZNAME:EDT
DTSTART:20240310T070000
END:DAYLIGHT
BEGIN:STANDARD
TZOFFSETFROM:-0400
TZOFFSETTO:-0500
TZNAME:EST
DTSTART:20241103T060000
END:STANDARD
END:VTIMEZONE
BEGIN:VEVENT
DTSTART;TZID=America/New_York:20240501T120000
DTEND;TZID=America/New_York:20241016T120000
DTSTAMP:20260420T123414
CREATED:20240411T191624Z
LAST-MODIFIED:20240411T191624Z
UID:61127-1714564800-1729080000@www.cnyhistory.org
SUMMARY:Walking & Talking Wednesdays: Historical Lunchtime Tours of Downtown Syracuse
DESCRIPTION:Spanning from spring to fall\, our Walking & Talking Wednesdays give you the chance to spend your mid-week lunch hour with Curator of History Robert Searing\, listening to some local history as you get in a midday walk around town. \nThe tours will leave from OHA’s downtown museum at 321 Montgomery Street at 12:00 and end in Clinton Square. Each will last approximately 45-60 minutes and cover a wide array of topics\, including abolition\, architecture\, general historical happenings\, and some of the city’s lost historical treasures. Please arrive and check in at OHA’s front desk 10 minutes prior to the start of your tour. \nTour dates are 5/1\, 5/15\, 6/5\, 6/26\, 7/10\, 7/24\, 8/14\, 8/28\, 9/4\, 9/18\, 10/2\, & 10/16 \nThe tours will cost $15 for members and $20 for non-members. Each tour group is capped at 15 guests\, so book your spot soon!
URL:https://www.cnyhistory.org/calendar/walking-talking-wednesdays-historical-lunchtime-tours-of-downtown-syracuse-2/
LOCATION:Onondaga Historical Museum\, 321 Montgomery Street\, Syracuse\, NY\, 13202\, United States
CATEGORIES:Tour
ATTACH;FMTTYPE=image/jpeg:https://www.cnyhistory.org/wp-content/uploads/2023/08/The-Latest-Walking-Talking-Wednesday-Tours-01-scaled.jpg
END:VEVENT
END:VCALENDAR