BEGIN:VCALENDAR
VERSION:2.0
PRODID:-//Onondaga Historical Association - ECPv6.6.4.2//NONSGML v1.0//EN
CALSCALE:GREGORIAN
METHOD:PUBLISH
X-WR-CALNAME:Onondaga Historical Association
X-ORIGINAL-URL:https://www.cnyhistory.org
X-WR-CALDESC:Events for Onondaga Historical Association
REFRESH-INTERVAL;VALUE=DURATION:PT1H
X-Robots-Tag:noindex
X-PUBLISHED-TTL:PT1H
BEGIN:VTIMEZONE
TZID:America/New_York
BEGIN:DAYLIGHT
TZOFFSETFROM:-0500
TZOFFSETTO:-0400
TZNAME:EDT
DTSTART:20250309T070000
END:DAYLIGHT
BEGIN:STANDARD
TZOFFSETFROM:-0400
TZOFFSETTO:-0500
TZNAME:EST
DTSTART:20251102T060000
END:STANDARD
END:VTIMEZONE
BEGIN:VEVENT
DTSTART;TZID=America/New_York:20250504T140000
DTEND;TZID=America/New_York:20250504T150000
DTSTAMP:20260421T073652
CREATED:20250417T192300Z
LAST-MODIFIED:20250417T192300Z
UID:61409-1746367200-1746370800@www.cnyhistory.org
SUMMARY:Fine China: An Interactive Syracuse China Presentation
DESCRIPTION:The year is 1957\, and as a member of the audience\, you are a new employee of Onondaga Pottery. President Richard Pass has come to welcome you and share a bit of the prestigious Syracuse China legacy; from teacups to landmines\, and to test your pottery skills!  \n  \nDate/Time: Sunday\, May 4th\, 2:00 pm- 3:00 pm. \nCost: $8 for the general public. Free for OHA Members. \n  \nPurchase Tickets
URL:https://www.cnyhistory.org/calendar/fine-china-an-interactive-syracuse-china-presentation/
LOCATION:Onondaga Historical Association\, 321 Montgomery Street\, Syracuse\, 13202
CATEGORIES:Presentation
END:VEVENT
END:VCALENDAR