BEGIN:VCALENDAR
VERSION:2.0
PRODID:-//Onondaga Historical Association - ECPv6.6.4.2//NONSGML v1.0//EN
CALSCALE:GREGORIAN
METHOD:PUBLISH
X-ORIGINAL-URL:https://www.cnyhistory.org
X-WR-CALDESC:Events for Onondaga Historical Association
REFRESH-INTERVAL;VALUE=DURATION:PT1H
X-Robots-Tag:noindex
X-PUBLISHED-TTL:PT1H
BEGIN:VTIMEZONE
TZID:America/New_York
BEGIN:DAYLIGHT
TZOFFSETFROM:-0500
TZOFFSETTO:-0400
TZNAME:EDT
DTSTART:20250309T070000
END:DAYLIGHT
BEGIN:STANDARD
TZOFFSETFROM:-0400
TZOFFSETTO:-0500
TZNAME:EST
DTSTART:20251102T060000
END:STANDARD
END:VTIMEZONE
BEGIN:VEVENT
DTSTART;TZID=America/New_York:20250621T173000
DTEND;TZID=America/New_York:20250621T193000
DTSTAMP:20260423T062541
CREATED:20250520T174122Z
LAST-MODIFIED:20250520T174122Z
UID:61442-1750527000-1750534200@www.cnyhistory.org
SUMMARY:Echoes of Eastwood Ghostwalk
DESCRIPTION:Ghostwalk season is right around the corner! \nOur historic Ghostwalks are led by guides to locations in neighborhoods\, buildings\, and cemeteries where actors in costume portray individuals from Onondaga County’s past. The “ghosts” reveal their lives in 12 to 15 minute vignettes\, giving personal insight to those who have preceded us. \nThis year\, discover the Echoes of Eastwood as we wander through the heart of “The Village within a City.” Along the way\, you’ll meet unforgettable figures from Eastwood’s rich past—brought to life by talented local performers. \n  \nEvent Dates:\nJune 20\, 21\, 27\, 28 \n– Fridays begin at 6:00 PM \n– Saturdays begin at 5:30 PM \nEvent Cost: \n$20 | $15 for OHA Members \nPurchase Tickets
URL:https://www.cnyhistory.org/calendar/echoes-of-eastwood-ghostwalk-2/
LOCATION:Skinner Realty\, 2649 James Street\, Syracuse\, NY\, 13206\, United States
CATEGORIES:Ghostwalk
END:VEVENT
END:VCALENDAR