BEGIN:VCALENDAR
VERSION:2.0
PRODID:-//Onondaga Historical Association - ECPv6.6.4.2//NONSGML v1.0//EN
CALSCALE:GREGORIAN
METHOD:PUBLISH
X-WR-CALNAME:Onondaga Historical Association
X-ORIGINAL-URL:https://www.cnyhistory.org
X-WR-CALDESC:Events for Onondaga Historical Association
REFRESH-INTERVAL;VALUE=DURATION:PT1H
X-Robots-Tag:noindex
X-PUBLISHED-TTL:PT1H
BEGIN:VTIMEZONE
TZID:America/New_York
BEGIN:DAYLIGHT
TZOFFSETFROM:-0500
TZOFFSETTO:-0400
TZNAME:EDT
DTSTART:20260308T070000
END:DAYLIGHT
BEGIN:STANDARD
TZOFFSETFROM:-0400
TZOFFSETTO:-0500
TZNAME:EST
DTSTART:20261101T060000
END:STANDARD
END:VTIMEZONE
BEGIN:VEVENT
DTSTART;TZID=America/New_York:20260615T110000
DTEND;TZID=America/New_York:20260615T123000
DTSTAMP:20260420T100743
CREATED:20260317T134109Z
LAST-MODIFIED:20260317T134109Z
UID:61631-1781521200-1781526600@www.cnyhistory.org
SUMMARY:Historic Hotel Syracuse Tour
DESCRIPTION:Onondaga Historical Association (OHA)\, in cooperation with the Marriott Syracuse Downtown\, conducts historic tours and presentations at the “Hotel Syracuse” on the third Monday of every other month at 11am\, or by appointment. Each event will last approximately an hour and a half and will hold 15 people. Tours begin at the front desk of the hotel\, where your tour guide will meet you. Please plan to arrive at least 10 minutes before the scheduled start of your tour. \nReservations are required and must be made by the Thursday before at 3 pm. Absolutely no walk-ins will be permitted. Cancellations must be done one week before the schedule tour in order to get a refund. The price per person is $20\, or $15 if you are a member of OHA. \nReserve your spot for our next tour now! \nPlease call 315-428-1864 x 312 with any questions. \nEvent Parking at Marriott Syracuse Downtown: Parking garage at Harrison Street and Harrison Place. Valet or Self Parking available. \nTo schedule a group tour (between 10-20 people) on another day\, contact Scott Peal (428-1864 x 317) at least two weeks in advance.\n \nTour Stops: \n\nThe Hotel Lobby\nPersian Terrace\nGrand Ballroom\nBridal Suite\nGroom Suite\nPresidential Suite\n\nNote: Any one\, or more\, of these stops may not be available on specific dates due to scheduling conflicts with events at the Marriott Syracuse Downtown. \n  \nPurchase Tickets
URL:https://www.cnyhistory.org/calendar/historic-hotel-syracuse-tour-3/
LOCATION:Marriott Syracuse Downtown\, 100 E Onondaga Street\, Syracuse\, NY\, 13202\, United States
CATEGORIES:Tour
END:VEVENT
BEGIN:VEVENT
DTSTART;TZID=America/New_York:20260624T120000
DTEND;TZID=America/New_York:20260624T130000
DTSTAMP:20260420T100743
CREATED:20260317T135319Z
LAST-MODIFIED:20260317T135319Z
UID:61638-1782302400-1782306000@www.cnyhistory.org
SUMMARY:Walking & Talking Wednesdays Tour- The Heart of Syracuse
DESCRIPTION:This summer and fall\, spend your mid-week lunch hour with Curator of History Robert Searing\, listening to some local history as you get in a midday walk around town. Tours leave at 12:00 pm from 321 Montgomery Street and last for 45-60 minutes. \nTickets are $20 each\, or $15 for OHA Members. Reserve your spot here! \n  \nThis Tour: The Heart of Syracuse \nTake a stroll down memory lane of the past downtown businesses\, the railroad that traveled through the downtown streets\, and some of the city’s lost historical treasures. \n\n\n\nThis year\, we are offering two different tours\, Footsteps in Freedom and newest addition\, The Heart of Syracuse. Footsteps in Freedom covers a wide array of topics\, including abolition\, architecture\, and some of the city’s lost historical treasures. Take a stroll down memory lane of the past downtown businesses\, the railroad that traveled through the downtown streets\, and some of the city’s lost historical treasures on the new Heart of Syracuse tour. \nPlease arrive and check in at OHA’s front desk 10 minutes prior to the start of your tour. Members: Be sure to use the tour code to enjoy $5 off of your tour price. You can email ohamuseum@cnyhistory.org to obtain your code. Each tour group is capped at 15 guests\, so book your spot soon! \n  \n\nPurchase Tickets
URL:https://www.cnyhistory.org/calendar/walking-talking-wednesdays-tour-the-heart-of-syracuse-8/
CATEGORIES:Tour
END:VEVENT
BEGIN:VEVENT
DTSTART;TZID=America/New_York:20260715T120000
DTEND;TZID=America/New_York:20260715T130000
DTSTAMP:20260420T100743
CREATED:20260317T135948Z
LAST-MODIFIED:20260317T135948Z
UID:61642-1784116800-1784120400@www.cnyhistory.org
SUMMARY:Walking & Talking Wednesdays Tour- Footsteps in Freedom
DESCRIPTION:This summer and fall\, spend your mid-week lunch hour with Curator of History Robert Searing\, listening to some local history as you get in a midday walk around town. Tours leave at 12:00 pm from 321 Montgomery Street and last for 45-60 minutes. \nTickets are $20 each\, or $15 for OHA Members. Reserve your spot here! \nTours leave at 12:00 pm from 321 Montgomery Street and last for 45-60 minutes. Tickets are $20 each\, or $15 for OHA Members. \n  \nThis Tour: Footsteps in Freedom \nThe covers a wide array of topics including abolition\, architecture\, and the role of the Erie Canal. \n  \n\nThis year\, we are offering two different tours\, Footsteps in Freedom and newest addition\, The Heart of Syracuse. Footsteps in Freedom covers a wide array of topics\, including abolition\, architecture\, and some of the city’s lost historical treasures. Take a stroll down memory lane of the past downtown businesses\, the railroad that traveled through the downtown streets\, and some of the city’s lost historical treasures on the new Heart of Syracuse tour. \nPlease arrive and check in at OHA’s front desk 10 minutes prior to the start of your tour. Members: Be sure to use the tour code to enjoy $5 off of your tour price. You can email ohamuseum@cnyhistory.org to obtain your code. Each tour group is capped at 15 guests\, so book your spot soon! \n  \n\nPurchase Tickets
URL:https://www.cnyhistory.org/calendar/walking-talking-wednesdays-tour-footsteps-in-freedom-8/
CATEGORIES:Tour
END:VEVENT
BEGIN:VEVENT
DTSTART;TZID=America/New_York:20260729T120000
DTEND;TZID=America/New_York:20260729T130000
DTSTAMP:20260420T100743
CREATED:20260317T135428Z
LAST-MODIFIED:20260317T135428Z
UID:61639-1785326400-1785330000@www.cnyhistory.org
SUMMARY:Walking & Talking Wednesdays Tour- The Heart of Syracuse
DESCRIPTION:This summer and fall\, spend your mid-week lunch hour with Curator of History Robert Searing\, listening to some local history as you get in a midday walk around town. Tours leave at 12:00 pm from 321 Montgomery Street and last for 45-60 minutes. \nTickets are $20 each\, or $15 for OHA Members. Reserve your spot here! \n  \nThis Tour: The Heart of Syracuse \nTake a stroll down memory lane of the past downtown businesses\, the railroad that traveled through the downtown streets\, and some of the city’s lost historical treasures. \n\n\n\nThis year\, we are offering two different tours\, Footsteps in Freedom and newest addition\, The Heart of Syracuse. Footsteps in Freedom covers a wide array of topics\, including abolition\, architecture\, and some of the city’s lost historical treasures. Take a stroll down memory lane of the past downtown businesses\, the railroad that traveled through the downtown streets\, and some of the city’s lost historical treasures on the new Heart of Syracuse tour. \nPlease arrive and check in at OHA’s front desk 10 minutes prior to the start of your tour. Members: Be sure to use the tour code to enjoy $5 off of your tour price. You can email ohamuseum@cnyhistory.org to obtain your code. Each tour group is capped at 15 guests\, so book your spot soon! \n  \n\nPurchase Tickets
URL:https://www.cnyhistory.org/calendar/walking-talking-wednesdays-tour-the-heart-of-syracuse-9/
CATEGORIES:Tour
END:VEVENT
BEGIN:VEVENT
DTSTART;TZID=America/New_York:20260812T090000
DTEND;TZID=America/New_York:20260812T163000
DTSTAMP:20260420T100743
CREATED:20260218T154949Z
LAST-MODIFIED:20260305T135915Z
UID:61605-1786525200-1786552200@www.cnyhistory.org
SUMMARY:Historic Bus Tour of Rochester
DESCRIPTION:Join us and the Erie Canal Museum for a special day-long historic bus tour of Rochester this summer! This guided trip offers a deep dive into Rochester’s past\, with meaningful connections to the Erie Canal\, Syracuse\, and some of the most influential figures in American history. \nTrip Highlights:\nOur chartered bus will depart from the Erie Canal Museum and head first to Mount Hope Cemetery\, where guests will enjoy a guided tour featuring the final resting places of Frederick Douglass and Susan B. Anthony\, along with lesser-known individuals connected to the Erie Canal and Central New York. \nAll participants will receive a boxed lunch which can be enjoyed between stops. \nIn the afternoon\, the group will tour Susan B. Anthony’s home\, where she lived for the last 40 years of her life\, followed by a walking tour of the surrounding historic neighborhood. \nTrip Details: \nDate: Wednesday\, August 12\, 2026\nTime: 9:00 AM–4:30 PM\nCost: $150 general public | $125 for OHA and Erie Canal Museum members\nLunch: Included (lunch options selected during ticket purchase)\nCancellations: Accepted up to 48 hours prior to the trip \nSpace is limited \nTicket Information:\nTickets must be purchased directly through the Erie Canal Museum\, either online via their website or by phone at 315-471-0593. \nPurchase Tickets
URL:https://www.cnyhistory.org/calendar/historic-bus-tour-of-rochester/
CATEGORIES:Tour
END:VEVENT
BEGIN:VEVENT
DTSTART;TZID=America/New_York:20260817T110000
DTEND;TZID=America/New_York:20260817T123000
DTSTAMP:20260420T100743
CREATED:20260317T134224Z
LAST-MODIFIED:20260317T134224Z
UID:61632-1786964400-1786969800@www.cnyhistory.org
SUMMARY:Historic Hotel Syracuse Tour
DESCRIPTION:Onondaga Historical Association (OHA)\, in cooperation with the Marriott Syracuse Downtown\, conducts historic tours and presentations at the “Hotel Syracuse” on the third Monday of every other month at 11am\, or by appointment. Each event will last approximately an hour and a half and will hold 15 people. Tours begin at the front desk of the hotel\, where your tour guide will meet you. Please plan to arrive at least 10 minutes before the scheduled start of your tour. \nReservations are required and must be made by the Thursday before at 3 pm. Absolutely no walk-ins will be permitted. Cancellations must be done one week before the schedule tour in order to get a refund. The price per person is $20\, or $15 if you are a member of OHA. \nReserve your spot for our next tour now! \nPlease call 315-428-1864 x 312 with any questions. \nEvent Parking at Marriott Syracuse Downtown: Parking garage at Harrison Street and Harrison Place. Valet or Self Parking available. \nTo schedule a group tour (between 10-20 people) on another day\, contact Scott Peal (428-1864 x 317) at least two weeks in advance.\n \nTour Stops: \n\nThe Hotel Lobby\nPersian Terrace\nGrand Ballroom\nBridal Suite\nGroom Suite\nPresidential Suite\n\nNote: Any one\, or more\, of these stops may not be available on specific dates due to scheduling conflicts with events at the Marriott Syracuse Downtown. \n  \nPurchase Tickets
URL:https://www.cnyhistory.org/calendar/historic-hotel-syracuse-tour-4/
LOCATION:Marriott Syracuse Downtown\, 100 E Onondaga Street\, Syracuse\, NY\, 13202\, United States
CATEGORIES:Tour
END:VEVENT
BEGIN:VEVENT
DTSTART;TZID=America/New_York:20260819T120000
DTEND;TZID=America/New_York:20260819T130000
DTSTAMP:20260420T100743
CREATED:20260317T140040Z
LAST-MODIFIED:20260317T140040Z
UID:61643-1787140800-1787144400@www.cnyhistory.org
SUMMARY:Walking & Talking Wednesdays Tour- Footsteps in Freedom
DESCRIPTION:This summer and fall\, spend your mid-week lunch hour with Curator of History Robert Searing\, listening to some local history as you get in a midday walk around town. Tours leave at 12:00 pm from 321 Montgomery Street and last for 45-60 minutes. \nTickets are $20 each\, or $15 for OHA Members. Reserve your spot here! \nTours leave at 12:00 pm from 321 Montgomery Street and last for 45-60 minutes. Tickets are $20 each\, or $15 for OHA Members. \n  \nThis Tour: Footsteps in Freedom \nThe covers a wide array of topics including abolition\, architecture\, and the role of the Erie Canal. \n  \n\nThis year\, we are offering two different tours\, Footsteps in Freedom and newest addition\, The Heart of Syracuse. Footsteps in Freedom covers a wide array of topics\, including abolition\, architecture\, and some of the city’s lost historical treasures. Take a stroll down memory lane of the past downtown businesses\, the railroad that traveled through the downtown streets\, and some of the city’s lost historical treasures on the new Heart of Syracuse tour. \nPlease arrive and check in at OHA’s front desk 10 minutes prior to the start of your tour. Members: Be sure to use the tour code to enjoy $5 off of your tour price. You can email ohamuseum@cnyhistory.org to obtain your code. Each tour group is capped at 15 guests\, so book your spot soon! \n  \n\nPurchase Tickets
URL:https://www.cnyhistory.org/calendar/walking-talking-wednesdays-tour-footsteps-in-freedom-9/
CATEGORIES:Tour
END:VEVENT
BEGIN:VEVENT
DTSTART;TZID=America/New_York:20260826T120000
DTEND;TZID=America/New_York:20260826T130000
DTSTAMP:20260420T100743
CREATED:20260317T135523Z
LAST-MODIFIED:20260317T135523Z
UID:61640-1787745600-1787749200@www.cnyhistory.org
SUMMARY:Walking & Talking Wednesdays Tour- The Heart of Syracuse
DESCRIPTION:This summer and fall\, spend your mid-week lunch hour with Curator of History Robert Searing\, listening to some local history as you get in a midday walk around town. Tours leave at 12:00 pm from 321 Montgomery Street and last for 45-60 minutes. \nTickets are $20 each\, or $15 for OHA Members. Reserve your spot here! \n  \nThis Tour: The Heart of Syracuse \nTake a stroll down memory lane of the past downtown businesses\, the railroad that traveled through the downtown streets\, and some of the city’s lost historical treasures. \n\n\n\nThis year\, we are offering two different tours\, Footsteps in Freedom and newest addition\, The Heart of Syracuse. Footsteps in Freedom covers a wide array of topics\, including abolition\, architecture\, and some of the city’s lost historical treasures. Take a stroll down memory lane of the past downtown businesses\, the railroad that traveled through the downtown streets\, and some of the city’s lost historical treasures on the new Heart of Syracuse tour. \nPlease arrive and check in at OHA’s front desk 10 minutes prior to the start of your tour. Members: Be sure to use the tour code to enjoy $5 off of your tour price. You can email ohamuseum@cnyhistory.org to obtain your code. Each tour group is capped at 15 guests\, so book your spot soon! \n  \n\nPurchase Tickets
URL:https://www.cnyhistory.org/calendar/walking-talking-wednesdays-tour-the-heart-of-syracuse-10/
CATEGORIES:Tour
END:VEVENT
BEGIN:VEVENT
DTSTART;TZID=America/New_York:20260909T120000
DTEND;TZID=America/New_York:20260909T130000
DTSTAMP:20260420T100743
CREATED:20260317T140137Z
LAST-MODIFIED:20260317T140137Z
UID:61644-1788955200-1788958800@www.cnyhistory.org
SUMMARY:Walking & Talking Wednesdays Tour- Footsteps in Freedom
DESCRIPTION:This summer and fall\, spend your mid-week lunch hour with Curator of History Robert Searing\, listening to some local history as you get in a midday walk around town. Tours leave at 12:00 pm from 321 Montgomery Street and last for 45-60 minutes. \nTickets are $20 each\, or $15 for OHA Members. Reserve your spot here! \nTours leave at 12:00 pm from 321 Montgomery Street and last for 45-60 minutes. Tickets are $20 each\, or $15 for OHA Members. \n  \nThis Tour: Footsteps in Freedom \nThe covers a wide array of topics including abolition\, architecture\, and the role of the Erie Canal. \n  \n\nThis year\, we are offering two different tours\, Footsteps in Freedom and newest addition\, The Heart of Syracuse. Footsteps in Freedom covers a wide array of topics\, including abolition\, architecture\, and some of the city’s lost historical treasures. Take a stroll down memory lane of the past downtown businesses\, the railroad that traveled through the downtown streets\, and some of the city’s lost historical treasures on the new Heart of Syracuse tour. \nPlease arrive and check in at OHA’s front desk 10 minutes prior to the start of your tour. Members: Be sure to use the tour code to enjoy $5 off of your tour price. You can email ohamuseum@cnyhistory.org to obtain your code. Each tour group is capped at 15 guests\, so book your spot soon! \n  \n\nPurchase Tickets
URL:https://www.cnyhistory.org/calendar/walking-talking-wednesdays-tour-footsteps-in-freedom-10/
CATEGORIES:Tour
END:VEVENT
BEGIN:VEVENT
DTSTART;TZID=America/New_York:20261019T110000
DTEND;TZID=America/New_York:20261019T123000
DTSTAMP:20260420T100743
CREATED:20260317T134338Z
LAST-MODIFIED:20260317T134338Z
UID:61633-1792407600-1792413000@www.cnyhistory.org
SUMMARY:Historic Hotel Syracuse Tour
DESCRIPTION:Onondaga Historical Association (OHA)\, in cooperation with the Marriott Syracuse Downtown\, conducts historic tours and presentations at the “Hotel Syracuse” on the third Monday of every other month at 11am\, or by appointment. Each event will last approximately an hour and a half and will hold 15 people. Tours begin at the front desk of the hotel\, where your tour guide will meet you. Please plan to arrive at least 10 minutes before the scheduled start of your tour. \nReservations are required and must be made by the Thursday before at 3 pm. Absolutely no walk-ins will be permitted. Cancellations must be done one week before the schedule tour in order to get a refund. The price per person is $20\, or $15 if you are a member of OHA. \nReserve your spot for our next tour now! \nPlease call 315-428-1864 x 312 with any questions. \nEvent Parking at Marriott Syracuse Downtown: Parking garage at Harrison Street and Harrison Place. Valet or Self Parking available. \nTo schedule a group tour (between 10-20 people) on another day\, contact Scott Peal (428-1864 x 317) at least two weeks in advance.\n \nTour Stops: \n\nThe Hotel Lobby\nPersian Terrace\nGrand Ballroom\nBridal Suite\nGroom Suite\nPresidential Suite\n\nNote: Any one\, or more\, of these stops may not be available on specific dates due to scheduling conflicts with events at the Marriott Syracuse Downtown. \n  \nPurchase Tickets
URL:https://www.cnyhistory.org/calendar/historic-hotel-syracuse-tour-5/
LOCATION:Marriott Syracuse Downtown\, 100 E Onondaga Street\, Syracuse\, NY\, 13202\, United States
CATEGORIES:Tour
END:VEVENT
BEGIN:VEVENT
DTSTART;TZID=America/New_York:20261221T110000
DTEND;TZID=America/New_York:20261221T123000
DTSTAMP:20260420T100743
CREATED:20260317T134450Z
LAST-MODIFIED:20260317T134450Z
UID:61634-1797850800-1797856200@www.cnyhistory.org
SUMMARY:Historic Hotel Syracuse Tour
DESCRIPTION:Onondaga Historical Association (OHA)\, in cooperation with the Marriott Syracuse Downtown\, conducts historic tours and presentations at the “Hotel Syracuse” on the third Monday of every other month at 11am\, or by appointment. Each event will last approximately an hour and a half and will hold 15 people. Tours begin at the front desk of the hotel\, where your tour guide will meet you. Please plan to arrive at least 10 minutes before the scheduled start of your tour. \nReservations are required and must be made by the Thursday before at 3 pm. Absolutely no walk-ins will be permitted. Cancellations must be done one week before the schedule tour in order to get a refund. The price per person is $20\, or $15 if you are a member of OHA. \nReserve your spot for our next tour now! \nPlease call 315-428-1864 x 312 with any questions. \nEvent Parking at Marriott Syracuse Downtown: Parking garage at Harrison Street and Harrison Place. Valet or Self Parking available. \nTo schedule a group tour (between 10-20 people) on another day\, contact Scott Peal (428-1864 x 317) at least two weeks in advance.\n \nTour Stops: \n\nThe Hotel Lobby\nPersian Terrace\nGrand Ballroom\nBridal Suite\nGroom Suite\nPresidential Suite\n\nNote: Any one\, or more\, of these stops may not be available on specific dates due to scheduling conflicts with events at the Marriott Syracuse Downtown. \n  \nPurchase Tickets
URL:https://www.cnyhistory.org/calendar/historic-hotel-syracuse-tour-6/
LOCATION:Marriott Syracuse Downtown\, 100 E Onondaga Street\, Syracuse\, NY\, 13202\, United States
CATEGORIES:Tour
END:VEVENT
END:VCALENDAR